BEGIN:VCALENDAR
PRODID:-//Hannon Hill Events//Cascade CMS//EN
VERSION:2.0
X-WR-CALNAME:Have Coffee with our Evening MBA Recruiters
X-WR-TIMEZONE:America/New_York
BEGIN:VTIMEZONE
TZID:America/New_York
BEGIN:DAYLIGHT
TZOFFSETFROM:-0500
TZOFFSETTO:-0400
TZNAME:EDT
DTSTART:19700308T020000
RRULE:FREQ=YEARLY;BYMONTH=3;BYDAY=2SU
END:DAYLIGHT
BEGIN:STANDARD
TZOFFSETFROM:-0400
TZOFFSETTO:-0500
TZNAME:EST
DTSTART:19701101T020000
RRULE:FREQ=YEARLY;BYMONTH=11;BYDAY=1SU
END:STANDARD
END:VTIMEZONE
BEGIN:VEVENT
DTSTART:20260515T090000
DTEND:20260515T120000
DTSTAMP:20260423T052053
UID:b6f0999eac102f03619e33e613d505ae
CREATED:20260422T164514
DESCRIPTION:Description\nAttend this coffee chat to learn how Georgia Tech
&apos\;s Evening MBA program can take your career to a higher level.
LAST-MODIFIED:20260422T171514
SEQUENCE:0
STATUS:CONFIRMED
SUMMARY:Have Coffee with our Evening MBA Recruiters
TRANSP:OPAQUE
END:VEVENT
END:VCALENDAR
